BEGIN:VCALENDAR
VERSION:2.0
PRODID:-//pretix//Eventos//
BEGIN:VEVENT
UID:pretix-congressos-dp-0@gestaoeventos.almedina.net
DTSTART;VALUE=DATE:20181122
DTEND;VALUE=DATE:20181123
DESCRIPTION:Bilhetes: https://gestaoeventos.almedina.net/congressos/dp/\nEn
 trada: 22/11/2018 09:30
DTSTAMP:20260424T163559Z
LOCATION:Altis Grand Hotel\nR. Castilho 11\n1269-072 Lisboa
ORGANIZER:Congressos Almedina
SUMMARY:Congresso de Direito e de Processo Penal
END:VEVENT
END:VCALENDAR
